BEGIN:VCALENDAR
VERSION:2.0
PRODID:-//Wynyard Golf Course - ECPv6.15.16//NONSGML v1.0//EN
CALSCALE:GREGORIAN
METHOD:PUBLISH
X-WR-CALNAME:Wynyard Golf Course
X-ORIGINAL-URL:https://wynyardgolfclub.com.au
X-WR-CALDESC:Events for Wynyard Golf Course
REFRESH-INTERVAL;VALUE=DURATION:PT1H
X-Robots-Tag:noindex
X-PUBLISHED-TTL:PT1H
BEGIN:VTIMEZONE
TZID:Australia/Hobart
BEGIN:STANDARD
TZOFFSETFROM:+1100
TZOFFSETTO:+1000
TZNAME:AEST
DTSTART:20250405T160000
END:STANDARD
BEGIN:DAYLIGHT
TZOFFSETFROM:+1000
TZOFFSETTO:+1100
TZNAME:AEDT
DTSTART:20251004T160000
END:DAYLIGHT
BEGIN:STANDARD
TZOFFSETFROM:+1100
TZOFFSETTO:+1000
TZNAME:AEST
DTSTART:20260404T160000
END:STANDARD
BEGIN:DAYLIGHT
TZOFFSETFROM:+1000
TZOFFSETTO:+1100
TZNAME:AEDT
DTSTART:20261003T160000
END:DAYLIGHT
BEGIN:STANDARD
TZOFFSETFROM:+1100
TZOFFSETTO:+1000
TZNAME:AEST
DTSTART:20270403T160000
END:STANDARD
BEGIN:DAYLIGHT
TZOFFSETFROM:+1000
TZOFFSETTO:+1100
TZNAME:AEDT
DTSTART:20271002T160000
END:DAYLIGHT
END:VTIMEZONE
BEGIN:VEVENT
DTSTART;TZID=Australia/Hobart:20260314T073000
DTEND;TZID=Australia/Hobart:20260329T170000
DTSTAMP:20260423T212708
CREATED:20260309T011754Z
LAST-MODIFIED:20260309T012657Z
UID:10000215-1773473400-1774803600@wynyardgolfclub.com.au
SUMMARY:Power Lines Tas Club Championships
DESCRIPTION:The event will proceed as follows: \nSaturday\, 14th March\n1st Round – Powerlines Club Championships + Monthly Medal + London Putting \nSaturday\, 21st March\n2nd Round – Powerlines Club Championships \nSaturday\, 28th & Sunday 29th March\nFinals Weekend – Quarter Finals\, Semi Finals and Final. \nMake sure to get your name on the timwsheet and be part of the action.  It will surely be and exciting time for the participants. \n 
URL:https://wynyardgolfclub.com.au/event-post/power-lines-tas-club-championships/
ATTACH;FMTTYPE=image/webp:https://wynyardgolfclub.com.au/wp-content/uploads/2026/03/Club-Championship-Flyer-2026.webp
END:VEVENT
END:VCALENDAR