BEGIN:VCALENDAR
VERSION:2.0
PRODID:-//Wynyard Golf Course - ECPv6.15.16//NONSGML v1.0//EN
CALSCALE:GREGORIAN
METHOD:PUBLISH
X-ORIGINAL-URL:https://wynyardgolfclub.com.au
X-WR-CALDESC:Events for Wynyard Golf Course
REFRESH-INTERVAL;VALUE=DURATION:PT1H
X-Robots-Tag:noindex
X-PUBLISHED-TTL:PT1H
BEGIN:VTIMEZONE
TZID:Australia/Hobart
BEGIN:STANDARD
TZOFFSETFROM:+1100
TZOFFSETTO:+1000
TZNAME:AEST
DTSTART:20230401T160000
END:STANDARD
BEGIN:DAYLIGHT
TZOFFSETFROM:+1000
TZOFFSETTO:+1100
TZNAME:AEDT
DTSTART:20230930T160000
END:DAYLIGHT
BEGIN:STANDARD
TZOFFSETFROM:+1100
TZOFFSETTO:+1000
TZNAME:AEST
DTSTART:20240406T160000
END:STANDARD
BEGIN:DAYLIGHT
TZOFFSETFROM:+1000
TZOFFSETTO:+1100
TZNAME:AEDT
DTSTART:20241005T160000
END:DAYLIGHT
BEGIN:STANDARD
TZOFFSETFROM:+1100
TZOFFSETTO:+1000
TZNAME:AEST
DTSTART:20250405T160000
END:STANDARD
BEGIN:DAYLIGHT
TZOFFSETFROM:+1000
TZOFFSETTO:+1100
TZNAME:AEDT
DTSTART:20251004T160000
END:DAYLIGHT
END:VTIMEZONE
BEGIN:VEVENT
DTSTART;TZID=Australia/Hobart:20241018T193000
DTEND;TZID=Australia/Hobart:20241018T233000
DTSTAMP:20260421T181015
CREATED:20240509T072041Z
LAST-MODIFIED:20240927T021125Z
UID:10000017-1729279800-1729294200@wynyardgolfclub.com.au
SUMMARY:Kitty and the Heartbeats
DESCRIPTION:We are celebrating 100 years at the \nWYNYARD GOLF CLUB \nand for your enjoyment we present  \nKITTY AND THE HEARTBEATS. \nFriday\, 18th October\, 2024. \n7:30 – 11:30pm \nTickets are $20. \nBookings are essential\, and please get in early. \nEnquiries to Sandy 0459 721 211 or\,\ncall into the club on a Thursday or Saturday. \nBank Details \nIf paying via EFT please reference Kitty (and your name) \nBring your own Nibblies\, though a small selection is available from the bar.
URL:https://wynyardgolfclub.com.au/event-post/kitty-and-the-heartbeats/
LOCATION:Wynyard Golf Club\, Golf Links Rd\, Wynyard
ATTACH;FMTTYPE=image/jpeg:https://wynyardgolfclub.com.au/wp-content/uploads/2024/05/Kitty-and-the-Heartbeats-1.jpg
END:VEVENT
BEGIN:VEVENT
DTSTART;VALUE=DATE:20241011
DTEND;VALUE=DATE:20241012
DTSTAMP:20260421T181015
CREATED:20240828T041650Z
LAST-MODIFIED:20241004T081937Z
UID:10000024-1728604800-1728691199@wynyardgolfclub.com.au
SUMMARY:CENTENARY CELEBRATION for the Wynyard Golf Club
DESCRIPTION:Wynyard Golf Club are celebrating their centenary on\nFriday October 11th – Save the Date. \nThis is an all day event commencing with a 9-hole competition – $5\nLast tee off 3:30 pm \nThe evening will include a Spit Roast from 6 pm – $10/person\nKids eat free. \nActivities on the day but not limited to:\nGuest Speakers\nGolf Activities\nSpit Roast\nTime Capsule\nTree Planting\nRaffles \nBar will be open. \nPlease see flyer for more info:     Centenary Flyer \nCome along and reminisce\, play 9-holes\, eat and take part in some the activities on the day. \nPlease buy tickets ASAP\, cut off for catering purposes is the 4th October\, so if you want to attend get in early and buy your tickets. \nTickets can be purchased from the bar – cash only please. \nAny enquiries: info@wynyardgolfclub.com.au or phone 0459 721 211
URL:https://wynyardgolfclub.com.au/event-post/100-year-centenary-for-the-wgc-afternoon-evening/
LOCATION:Wynyard Golf Club\, Golf Links Rd\, Wynyard
ATTACH;FMTTYPE=image/jpeg:https://wynyardgolfclub.com.au/wp-content/uploads/2024/05/Aerial-view-3-of-Wynyard-GC.jpg
END:VEVENT
BEGIN:VEVENT
DTSTART;TZID=Australia/Hobart:20240621T193000
DTEND;TZID=Australia/Hobart:20240621T233000
DTSTAMP:20260421T181015
CREATED:20240509T071610Z
LAST-MODIFIED:20240523T000545Z
UID:10000015-1718998200-1719012600@wynyardgolfclub.com.au
SUMMARY:Mason Waller
DESCRIPTION:  \nMason Waller will be performing at the Wynyard Golf Club on Friday night\, June 21st. \n7:30pm to 11:30pm \nCost will be $20 payable on the night. \nBring your own nibblies or a selection is available from the bar. \nEnquiries: 6442 2614
URL:https://wynyardgolfclub.com.au/event-post/mason-waller/
LOCATION:Wynyard Golf Club\, Golf Links Rd\, Wynyard
ATTACH;FMTTYPE=image/jpeg:https://wynyardgolfclub.com.au/wp-content/uploads/2024/05/Mason-Waller-1.jpg
END:VEVENT
BEGIN:VEVENT
DTSTART;TZID=Australia/Hobart:20240603T193000
DTEND;TZID=Australia/Hobart:20240603T230000
DTSTAMP:20260421T181015
CREATED:20240509T071752Z
LAST-MODIFIED:20240722T212436Z
UID:10000016-1717443000-1717455600@wynyardgolfclub.com.au
SUMMARY:Smokin' Elmores
DESCRIPTION:Come and have a great time with the Smokin’ Elmores \nAt Wynyard Golf Club\, Golflinks Rd\, Wynyard. \nSaturday 3rd August \n7:30 pm to 11:00 pm. \nBYO Nibbles \n$20 per person \nBookings are essential. \n\nUse Event as reference.
URL:https://wynyardgolfclub.com.au/event-post/smoking-elmores/
LOCATION:Wynyard Golf Club\, Golf Links Rd\, Wynyard
ATTACH;FMTTYPE=image/jpeg:https://wynyardgolfclub.com.au/wp-content/uploads/2024/07/Smokin-Elmores.jpg
END:VEVENT
BEGIN:VEVENT
DTSTART;TZID=Australia/Hobart:20240323T100000
DTEND;TZID=Australia/Hobart:20240323T160000
DTSTAMP:20260421T181015
CREATED:20240304T230928Z
LAST-MODIFIED:20240304T231944Z
UID:10000013-1711188000-1711209600@wynyardgolfclub.com.au
SUMMARY:Shed's n' Homes 3 Person Ambrose
DESCRIPTION:10:00 am Shotgun Start \nCost: $15.00 per Player  (to be paid at time of entry\, closing date 20th March) \nOver $2000 in prizes. \nPrizes to be award:\nWinning Team\nSecond Team\nThird Team\nBest Mixed/Ladies Team \n \nSponsored by Sulphur Sheds:\nGold Pin 8th/17th\nNearest the Pins 4th/13th & 6th/15th\nLongest Putt 9th/18th\nStraightest Drive 5th/14th\nNTP Second Shotes 2nd/11th & 7th/16th \nRegistration sheet opens 27th February. \nField limited to 30 teams\, so be early. \nContact: info@wynyardgolfclub.com.au
URL:https://wynyardgolfclub.com.au/event-post/sheds-n-homes-3-person-ambrose/
LOCATION:Wynyard Golf Club\, Golf Links Rd\, Wynyard
ATTACH;FMTTYPE=image/png:https://wynyardgolfclub.com.au/wp-content/uploads/2023/09/sheds-n-homes-logo.png
END:VEVENT
BEGIN:VEVENT
DTSTART;TZID=Australia/Hobart:20240322T170000
DTEND;TZID=Australia/Hobart:20240322T190000
DTSTAMP:20260421T181015
CREATED:20240115T001838Z
LAST-MODIFIED:20240115T002325Z
UID:10000010-1711126800-1711134000@wynyardgolfclub.com.au
SUMMARY:Wynyard Golf Club Centenary Cocktail Party
DESCRIPTION:Please join us for our 100-year Centenary Cocktail Party \nGuest Speakers & Finger Food Provided \nDate: Friday 22nd March 2024 \nTime:  5 – 7pm. \n$10.00 / person \nPlease direct deposit to \nBSB 017-570 \nA/c No. 4452 11986 \nRef: Cocktail & Name \nRSVP by Friday 8th March to 0438 423 413 \nAny enquiries: \ninfo@wynyardgolfclub.com.au \nor phone 0438 423 413
URL:https://wynyardgolfclub.com.au/event-post/wynyard-golf-club-centenary-cocktail-party/
LOCATION:Wynyard Golf Club\, Golf Links Rd\, Wynyard
ATTACH;FMTTYPE=image/webp:https://wynyardgolfclub.com.au/wp-content/uploads/2024/01/Cocktails.webp
END:VEVENT
END:VCALENDAR